BEGIN:VCALENDAR
VERSION:2.0
PRODID:-//GGemS Lensahn - ECPv6.0.13.1//NONSGML v1.0//EN
CALSCALE:GREGORIAN
METHOD:PUBLISH
X-WR-CALNAME:GGemS Lensahn
X-ORIGINAL-URL:https://www.ggems-lensahn.de
X-WR-CALDESC:Veranstaltungen für GGemS Lensahn
REFRESH-INTERVAL;VALUE=DURATION:PT1H
X-Robots-Tag:noindex
X-PUBLISHED-TTL:PT1H
BEGIN:VTIMEZONE
TZID:Europe/Berlin
BEGIN:DAYLIGHT
TZOFFSETFROM:+0100
TZOFFSETTO:+0200
TZNAME:CEST
DTSTART:20250330T010000
END:DAYLIGHT
BEGIN:STANDARD
TZOFFSETFROM:+0200
TZOFFSETTO:+0100
TZNAME:CET
DTSTART:20251026T010000
END:STANDARD
END:VTIMEZONE
BEGIN:VEVENT
DTSTART;VALUE=DATE:20250728
DTEND;VALUE=DATE:20250906
DTSTAMP:20260423T210254
CREATED:20241001T085319Z
LAST-MODIFIED:20241001T085319Z
UID:6313-1753660800-1757116799@www.ggems-lensahn.de
SUMMARY:Sommerferien
DESCRIPTION:
URL:https://www.ggems-lensahn.de/event/sommerferien/
END:VEVENT
END:VCALENDAR