BEGIN:VCALENDAR
VERSION:2.0
PRODID:-//GGemS Lensahn - ECPv6.0.13.1//NONSGML v1.0//EN
CALSCALE:GREGORIAN
METHOD:PUBLISH
X-ORIGINAL-URL:https://www.ggems-lensahn.de
X-WR-CALDESC:Veranstaltungen für GGemS Lensahn
REFRESH-INTERVAL;VALUE=DURATION:PT1H
X-Robots-Tag:noindex
X-PUBLISHED-TTL:PT1H
BEGIN:VTIMEZONE
TZID:Europe/Berlin
BEGIN:DAYLIGHT
TZOFFSETFROM:+0100
TZOFFSETTO:+0200
TZNAME:CEST
DTSTART:20250330T010000
END:DAYLIGHT
BEGIN:STANDARD
TZOFFSETFROM:+0200
TZOFFSETTO:+0100
TZNAME:CET
DTSTART:20251026T010000
END:STANDARD
END:VTIMEZONE
BEGIN:VEVENT
DTSTART;VALUE=DATE:20250203
DTEND;VALUE=DATE:20250205
DTSTAMP:20260424T073336
CREATED:20241001T085053Z
LAST-MODIFIED:20241001T085053Z
UID:6305-1738540800-1738713599@www.ggems-lensahn.de
SUMMARY:Schulentwicklungstage (unterrichtsfrei)
DESCRIPTION:
URL:https://www.ggems-lensahn.de/event/schulentwicklungstage-unterrichtsfrei/
END:VEVENT
BEGIN:VEVENT
DTSTART;VALUE=DATE:20250203
DTEND;VALUE=DATE:20250208
DTSTAMP:20260424T073336
CREATED:20250129T070733Z
LAST-MODIFIED:20250129T070733Z
UID:6425-1738540800-1738972799@www.ggems-lensahn.de
SUMMARY:Praktikum Klasse 10
DESCRIPTION:
URL:https://www.ggems-lensahn.de/event/praktikum-klasse-10/
END:VEVENT
BEGIN:VEVENT
DTSTART;VALUE=DATE:20250210
DTEND;VALUE=DATE:20250222
DTSTAMP:20260424T073336
CREATED:20240927T075127Z
LAST-MODIFIED:20240927T075127Z
UID:6291-1739145600-1740182399@www.ggems-lensahn.de
SUMMARY:Werkstatttage Klasse 8
DESCRIPTION:
URL:https://www.ggems-lensahn.de/event/werkstatttage-klasse-8/
END:VEVENT
BEGIN:VEVENT
DTSTART;TZID=Europe/Berlin:20250211T180000
DTEND;TZID=Europe/Berlin:20250211T193000
DTSTAMP:20260424T073336
CREATED:20250129T070151Z
LAST-MODIFIED:20250129T070151Z
UID:6418-1739296800-1739302200@www.ggems-lensahn.de
SUMMARY:Abend der offenen Schule
DESCRIPTION:
URL:https://www.ggems-lensahn.de/event/abend-der-offenen-schule-2/
END:VEVENT
BEGIN:VEVENT
DTSTART;VALUE=DATE:20250218
DTEND;VALUE=DATE:20250219
DTSTAMP:20260424T073336
CREATED:20250129T070810Z
LAST-MODIFIED:20250129T070810Z
UID:6427-1739836800-1739923199@www.ggems-lensahn.de
SUMMARY:Elternsprechtag
DESCRIPTION:
URL:https://www.ggems-lensahn.de/event/elternsprechtag-3/
END:VEVENT
END:VCALENDAR