BEGIN:VCALENDAR
VERSION:2.0
PRODID:-//GGemS Lensahn - ECPv6.0.13.1//NONSGML v1.0//EN
CALSCALE:GREGORIAN
METHOD:PUBLISH
X-ORIGINAL-URL:https://www.ggems-lensahn.de
X-WR-CALDESC:Veranstaltungen für GGemS Lensahn
REFRESH-INTERVAL;VALUE=DURATION:PT1H
X-Robots-Tag:noindex
X-PUBLISHED-TTL:PT1H
BEGIN:VTIMEZONE
TZID:Europe/Berlin
BEGIN:DAYLIGHT
TZOFFSETFROM:+0100
TZOFFSETTO:+0200
TZNAME:CEST
DTSTART:20250330T010000
END:DAYLIGHT
BEGIN:STANDARD
TZOFFSETFROM:+0200
TZOFFSETTO:+0100
TZNAME:CET
DTSTART:20251026T010000
END:STANDARD
END:VTIMEZONE
BEGIN:VEVENT
DTSTART;VALUE=DATE:20250303
DTEND;VALUE=DATE:20250313
DTSTAMP:20260424T040815
CREATED:20250304T075632Z
LAST-MODIFIED:20250304T075632Z
UID:6456-1740960000-1741823999@www.ggems-lensahn.de
SUMMARY:Anmeldezeitraum für die zukünftigen 5. Klässler
DESCRIPTION:
URL:https://www.ggems-lensahn.de/event/anmeldezeitraum-fuer-die-zukuenftigen-5-klaessler/
END:VEVENT
BEGIN:VEVENT
DTSTART;TZID=Europe/Berlin:20250305T140000
DTEND;TZID=Europe/Berlin:20250305T160000
DTSTAMP:20260424T040815
CREATED:20250129T070415Z
LAST-MODIFIED:20250129T070415Z
UID:6420-1741183200-1741190400@www.ggems-lensahn.de
SUMMARY:Inselfasching
DESCRIPTION:Inselfasching \nAm 05.03.2025 startet für alle Kinder der Klassenstufen 1 – 4 aus der Insel unsere Faschingsparty! \nDer Unkostenbeitrag beträgt 1\,00€. \nBeginn:  14.00Uhr      Ende:  16.00Uhr \nEinlass nur mit Kostüm J \nBitte in der Insel anmelden! \nAufgrund der zur Verfügung stehenden Plätze können wir nur die ersten 50 eingehenden Anmeldungen berücksichtigen. \nAnmeldeschluss ist der 21.02.2025 \nWir freuen uns auf euch!
URL:https://www.ggems-lensahn.de/event/inselfasching/
END:VEVENT
BEGIN:VEVENT
DTSTART;VALUE=DATE:20250324
DTEND;VALUE=DATE:20250329
DTSTAMP:20260424T040815
CREATED:20250129T070846Z
LAST-MODIFIED:20250129T071004Z
UID:6429-1742774400-1743206399@www.ggems-lensahn.de
SUMMARY:Klassenfahrt der 9. Klasse nach Berlin
DESCRIPTION:
URL:https://www.ggems-lensahn.de/event/klassenfahrt-der-9-klasse-nach-berlin/
END:VEVENT
BEGIN:VEVENT
DTSTART;VALUE=DATE:20250331
DTEND;VALUE=DATE:20250405
DTSTAMP:20260424T040815
CREATED:20240927T075212Z
LAST-MODIFIED:20240927T075212Z
UID:6293-1743379200-1743811199@www.ggems-lensahn.de
SUMMARY:Klassenfahrt 3b nach Tönning
DESCRIPTION:
URL:https://www.ggems-lensahn.de/event/klassenfahrt-3b-nach-toenning/
END:VEVENT
END:VCALENDAR