BEGIN:VCALENDAR
VERSION:2.0
PRODID:-//GGemS Lensahn - ECPv6.0.13.1//NONSGML v1.0//EN
CALSCALE:GREGORIAN
METHOD:PUBLISH
X-WR-CALNAME:GGemS Lensahn
X-ORIGINAL-URL:https://www.ggems-lensahn.de
X-WR-CALDESC:Veranstaltungen für GGemS Lensahn
REFRESH-INTERVAL;VALUE=DURATION:PT1H
X-Robots-Tag:noindex
X-PUBLISHED-TTL:PT1H
BEGIN:VTIMEZONE
TZID:Europe/Berlin
BEGIN:DAYLIGHT
TZOFFSETFROM:+0100
TZOFFSETTO:+0200
TZNAME:CEST
DTSTART:20250330T010000
END:DAYLIGHT
BEGIN:STANDARD
TZOFFSETFROM:+0200
TZOFFSETTO:+0100
TZNAME:CET
DTSTART:20251026T010000
END:STANDARD
END:VTIMEZONE
BEGIN:VEVENT
DTSTART;VALUE=DATE:20250506
DTEND;VALUE=DATE:20250507
DTSTAMP:20260424T002307
CREATED:20240927T074520Z
LAST-MODIFIED:20240927T074820Z
UID:6279-1746489600-1746575999@www.ggems-lensahn.de
SUMMARY:Abschlussprüfung ESA Englisch und MSA Deutsch
DESCRIPTION:
URL:https://www.ggems-lensahn.de/event/abschlusspruefung-esa-englisch-und-msa-deutsch/
END:VEVENT
BEGIN:VEVENT
DTSTART;VALUE=DATE:20250508
DTEND;VALUE=DATE:20250509
DTSTAMP:20260424T002307
CREATED:20240927T074602Z
LAST-MODIFIED:20240927T074613Z
UID:6281-1746662400-1746748799@www.ggems-lensahn.de
SUMMARY:Abschlussprüfung ESA Deutsch und MSA Mathematik
DESCRIPTION:
URL:https://www.ggems-lensahn.de/event/abschlusspruefung-esa-deutsch-und-msa-mathematik/
END:VEVENT
BEGIN:VEVENT
DTSTART;VALUE=DATE:20250513
DTEND;VALUE=DATE:20250514
DTSTAMP:20260424T002307
CREATED:20240927T074643Z
LAST-MODIFIED:20240927T074643Z
UID:6283-1747094400-1747180799@www.ggems-lensahn.de
SUMMARY:Abschlussprüfung ESA Mathematik und MSA Englisch
DESCRIPTION:
URL:https://www.ggems-lensahn.de/event/abschlusspruefung-esa-mathematik-und-msa-englisch/
END:VEVENT
BEGIN:VEVENT
DTSTART;VALUE=DATE:20250526
DTEND;VALUE=DATE:20250531
DTSTAMP:20260424T002307
CREATED:20241001T085143Z
LAST-MODIFIED:20241001T085143Z
UID:6307-1748217600-1748649599@www.ggems-lensahn.de
SUMMARY:bewegliche Ferientage und Himmelfahrt (unterrichtsfrei)
DESCRIPTION:
URL:https://www.ggems-lensahn.de/event/bewegliche-ferientage-und-himmelfahrt-unterrichtsfrei/
END:VEVENT
END:VCALENDAR